{
 "currentVersion": 10.61,
 "serviceDescription": "Aerial 2018 image",
 "name": "2018Cache",
 "description": "Aerial 2018 image",
 "extent": {
  "xmin": 535707.75,
  "ymin": 302736,
  "xmax": 721505.25,
  "ymax": 498280.5,
  "spatialReference": {
   "wkid": 102668,
   "latestWkid": 2241
  }
 },
 "initialExtent": {
  "xmin": 535707.75,
  "ymin": 302736,
  "xmax": 721505.25,
  "ymax": 498280.5,
  "spatialReference": {
   "wkid": 102668,
   "latestWkid": 2241
  }
 },
 "fullExtent": {
  "xmin": 535707.75,
  "ymin": 302736,
  "xmax": 721505.25,
  "ymax": 498280.5,
  "spatialReference": {
   "wkid": 102668,
   "latestWkid": 2241
  }
 },
 "pixelSizeX": 0.5,
 "pixelSizeY": 0.5,
 "bandCount": 3,
 "pixelType": "U8",
 "minPixelSize": 0.10850694444444445,
 "maxPixelSize": 312.5,
 "copyrightText": "Engineering",
 "serviceDataType": "esriImageServiceDataTypeRGB",
 "minValues": [],
 "maxValues": [],
 "meanValues": [],
 "stdvValues": [],
 "objectIdField": "",
 "fields": [],
 "capabilities": "Image,Metadata,Mensuration",
 "defaultMosaicMethod": "Center",
 "allowedMosaicMethods": "",
 "sortField": "",
 "sortValue": null,
 "mosaicOperator": "First",
 "defaultCompressionQuality": 75,
 "defaultResamplingMethod": "Bilinear",
 "maxImageHeight": 4100,
 "maxImageWidth": 15000,
 "singleFusedMapCache": true,
 "tileInfo": {
  "rows": 256,
  "cols": 256,
  "dpi": 96,
  "format": "MIXED",
  "compressionQuality": 75,
  "origin": {
   "x": -17791400,
   "y": 1.7674499999999993E7
  },
  "spatialReference": {
   "wkid": 102668,
   "latestWkid": 2241
  },
  "lods": [
   {
    "level": 0,
    "resolution": 312.5,
    "scale": 360000
   },
   {
    "level": 1,
    "resolution": 156.25,
    "scale": 180000
   },
   {
    "level": 2,
    "resolution": 55.55555555555555,
    "scale": 64000
   },
   {
    "level": 3,
    "resolution": 13.888888888888888,
    "scale": 16000
   },
   {
    "level": 4,
    "resolution": 6.944444444444444,
    "scale": 8000
   },
   {
    "level": 5,
    "resolution": 3.472222222222222,
    "scale": 4000
   },
   {
    "level": 6,
    "resolution": 1.736111111111111,
    "scale": 2000
   },
   {
    "level": 7,
    "resolution": 0.8680555555555555,
    "scale": 1000
   },
   {
    "level": 8,
    "resolution": 0.43402777777777773,
    "scale": 500
   },
   {
    "level": 9,
    "resolution": 0.21701388888888887,
    "scale": 250
   },
   {
    "level": 10,
    "resolution": 0.10850694444444443,
    "scale": 125
   }
  ]
 },
 "cacheType": "Map",
 "allowRasterFunction": true,
 "rasterFunctionInfos": [
  {
   "name": "None",
   "description": "",
   "help": ""
  }
 ],
 "rasterTypeInfos": [
  {
   "name": "Raster Dataset",
   "description": "Supports all ArcGIS Raster Datasets",
   "help": ""
  }
 ],
 "mensurationCapabilities": "Basic",
 "hasHistograms": false,
 "hasColormap": false,
 "hasRasterAttributeTable": false,
 "minScale": 360000,
 "maxScale": 125,
 "exportTilesAllowed": false,
 "hasMultidimensions": false,
 "supportsStatistics": false,
 "supportsAdvancedQueries": false,
 "editFieldsInfo": null,
 "ownershipBasedAccessControlForRasters": null,
 "allowComputeTiePoints": false,
 "useStandardizedQueries": true,
 "advancedQueryCapabilities": {
  "useStandardizedQueries": true,
  "supportsStatistics": false,
  "supportsOrderBy": false,
  "supportsDistinct": false,
  "supportsPagination": false
 },
 "spatialReference": {
  "wkid": 102668,
  "latestWkid": 2241
 }
}
